BEGIN:VCALENDAR
VERSION:2.0
PRODID:-//Stadtgeschichte München//DE
CALSCALE:GREGORIAN
BEGIN:VEVENT
UID:2571@stadtgeschichte-muenchen.de
SUMMARY:Im Kampf gegen das Osmanische Reich
DESCRIPTION:&lt;div&gt;Die Schlachtengem&amp;auml;lde des bayerischen&amp;nbsp;Kurf&amp;uuml;rsten Max Emanuel und des polnischen&amp;nbsp;K&amp;ouml;nigs Jan III. Sobieski im Neuen Schloss&amp;nbsp;&lt;/div&gt; &lt;div&gt;Schlei&amp;szlig;heim&lt;/div&gt;
DTSTART:20120520T140000
DTEND:20120520T000000
LOCATION:Kasse Neues Schloss Schleißheim
ORGANIZER:Bayerische Schlösserverwaltung
END:VEVENT
END:VCALENDAR