BEGIN:VCALENDAR
VERSION:2.0
PRODID:-//Stadtgeschichte München//DE
CALSCALE:GREGORIAN
BEGIN:VEVENT
UID:25710@stadtgeschichte-muenchen.de
SUMMARY:Im Fokus: Luise Kinseher 
DESCRIPTION:&lt;p&gt;Die durch zahlreiche Auftritte bekannte Kabarettistin und Schauspielerin Luise Kinseher hat böhmische Wurzeln. Ihr Mutter wurde nach Kriegsende aus dem böhmischen Krumau (Český Krumlov) vertrieben. Das Gespräch vertieft diesen Aspekt der Familiengeschichte und dreht sich um vieles, was mit einem erzwungenem Neuanfang verbunden ist.&amp;nbsp;&lt;/p&gt;&lt;p&gt;Luise Kinseher Kabarettistin&amp;nbsp;&lt;br&gt;Moderation: Wolfgang Schwarz Kulturreferent für die böhmischen Länder&lt;/p&gt;
DTSTART:20250603T190000
DTEND:20250603T000020
LOCATION:Sudetendeutsches Haus Hochstr. 10
ORGANIZER:Sudetendeutsches Museum
END:VEVENT
END:VCALENDAR