BEGIN:VCALENDAR
VERSION:2.0
PRODID:-//Stadtgeschichte München//DE
CALSCALE:GREGORIAN
BEGIN:VEVENT
UID:25722@stadtgeschichte-muenchen.de
SUMMARY:Schicksalsjahr 1945
DESCRIPTION:&lt;p&gt;Die Themenführung bildet den zweiten Teil der Veranstaltungsreihe zum Schicksalsjahr 1945. Postelberg (tschech. Postoloprty) liegt an der Grenze zwischen dem deutschsprachigen und dem tschechischsprachigen Teil Böhmens.&amp;nbsp; Nachdem die seit 8. Mai anwesenden sowjetischen Truppen abgezogen waren, wurden auf einem Kasernengelände mindestens 763 deutsche Männer und Jungen im Alter von 12 bis über 60 Jahren gefoltert und ermordet. Die Führung bietet einen Überblick über die Geschichte der deutschsprachigen Bevölkerung der Sudetengebiete nach der „Stunde Null“ und ordnet die Geschehnisse historisch ein.&lt;/p&gt;
DTSTART:20250612T190000
DTEND:20250612T203000
LOCATION:Sudetendeutsches Haus Hochstr. 10
ORGANIZER:Sudetendeutsches Museum
END:VEVENT
END:VCALENDAR