BEGIN:VCALENDAR
VERSION:2.0
PRODID:-//Stadtgeschichte München//DE
CALSCALE:GREGORIAN
BEGIN:VEVENT
UID:25727@stadtgeschichte-muenchen.de
SUMMARY:Die Lachnerstraße
DESCRIPTION:&lt;p&gt;In unserem bebilderten Vortrag wandern wir durch die Lachnerstraße, deren westlicher Teil einen Bogen bildet, und ab 1890 bebaut wurde. Finanziell sehr gut gestellte Bauherren erteilten an außergewöhnlich gute Architekten Planungsaufträge. Es entstand eine der schönsten Straßen im 9. Münchner Stadtbezirk, deren erster Teil durch Mietshäuser geprägt ist, während im zweiten Teil der Straße brillante Villenbauten vorherrschen.&lt;/p&gt;&lt;p&gt;In Zusammenarbeit mit der Geschichtswerkstatt Neuhausen e. V.&lt;/p&gt;
DTSTART:20250203T180000
DTEND:20250203T193000
LOCATION:Volkshochschule Nymphenburger Str. 171b
ORGANIZER:MVHS
END:VEVENT
END:VCALENDAR