BEGIN:VCALENDAR
VERSION:2.0
PRODID:-//Stadtgeschichte München//DE
CALSCALE:GREGORIAN
BEGIN:VEVENT
UID:25732@stadtgeschichte-muenchen.de
SUMMARY:Die Geschichte und Gegenwart der Sinti und Roma
DESCRIPTION:&lt;p&gt;Die Diskriminierung und Verfolgung der Sinti und Roma sind nicht nur ein Kapitel der Geschichte, das mit den Gräueltaten der Nationalsozialisten begann. In Deutschland waren sie systematischer Überwachung und fast zeitgleich mit ihrer Ankunft, Ausgrenzung ausgesetzt.&amp;nbsp;&lt;/p&gt;&lt;p&gt;Antiziganismus hat weder mit der NS-Zeit begonnen noch danach aufgehört. Während der beiden Weltkriege kämpften Sinti und Roma für ihre jeweiligen Heimatländer als Soldaten, doch nach dem Krieg blieben sie weiterhin Opfer der sogenannten zweiten Verfolgung.&amp;nbsp;&lt;/p&gt;
DTSTART:20250317T190000
DTEND:20250317T203000
LOCATION:Evangelische Stadtakademie München, Herzog-Wilhelm-Str. 24
ORGANIZER:ErinnerungsWerkstatt München e.V.
END:VEVENT
END:VCALENDAR