BEGIN:VCALENDAR
VERSION:2.0
PRODID:-//Stadtgeschichte München//DE
CALSCALE:GREGORIAN
BEGIN:VEVENT
UID:25734@stadtgeschichte-muenchen.de
SUMMARY:Die Alte Sendlinger Kirche und die Mazedonisch-Orthodoxe KircheHeilige Margareta und Heili
DESCRIPTION:&lt;p&gt;In der Alten Sendlinger Kirche, dem Schauplatz der &quot;Sendlinger Mordweihnacht&quot;, finden katholische und orthodoxe Traditionen zusammen. Erfahren Sie mehr über die Heilige Margaretha, die in der orthodoxen Tradition als Heilige Marina verehrt wird, und entdecken Sie die reiche Geschichte des Erzbistums Ohrid und der Mazedonisch-Orthodoxen Kirche.&lt;/p&gt;
DTSTART:20250306T160000
DTEND:20250306T173000
LOCATION:Alte Sendlinger Kirche, Plinganser Str. 1
ORGANIZER:Katholischer Deutscher Frauenbund
END:VEVENT
END:VCALENDAR