BEGIN:VCALENDAR
VERSION:2.0
PRODID:-//Stadtgeschichte München//DE
CALSCALE:GREGORIAN
BEGIN:VEVENT
UID:25740@stadtgeschichte-muenchen.de
SUMMARY:Von der Bohne in die Tasse - Kaffeetradition in München
DESCRIPTION:&lt;p&gt;Bevor dieses Getränk Einzug in München hielt, war das Kaffeetrinken in anderen europäischen Ländern bei der gehobenen Gesellschaft schon an der Tagesordnung. Das braune Getränk begeisterte wohl auch die Wittelsbacher, so dass einige Kaffeehäuser den beliebten Titel des königlich-bayerischen Hoflieferanten erhielten. Von der zarten Kaffeeblüte bis zum dampfenden Espresso ist ein langer Weg zu beschreiten. Sie erfahren in 90 Minuten vieles über des Deutschen Lieblingsgetränk. Nach dem &quot;theoretischen Kaffeeklatsch&quot; führt uns der Weg in ein Cafe in der Münchner Innenstadt zum &quot;praktischen Teil&quot; der Kaffeeführung.&lt;/p&gt;
DTSTART:20250605T100000
DTEND:20250605T113000
LOCATION:Hofgartentor am Odeonsplatz
ORGANIZER:Katholischer Deutscher Frauenbund
END:VEVENT
END:VCALENDAR