BEGIN:VCALENDAR
VERSION:2.0
PRODID:-//Stadtgeschichte München//DE
CALSCALE:GREGORIAN
BEGIN:VEVENT
UID:25741@stadtgeschichte-muenchen.de
SUMMARY:München nachhaltig - eine öko-soziale Stadtführung
DESCRIPTION:&lt;p&gt;München ist reich - auch an Menschen und Orten, die den weltweiten Entwicklungen wie Klimawandel, auseinanderdriftenden Gesellschaften und Hungersnöten etwas entgegenzusetzen haben. Auf diesem öko-sozialen Rundgang lernen Sie Möglichkeiten kennen, wie jede/r aus seinem/ihrem Alltag heraus etwas mit-bewirken kann. Sei es durch bewussteres Essen und Trinken, alternative Banken, faire Kleidung oder nachhaltige Urlaube - die Alternativen sind da und warten darauf, entdeckt zu werden.&lt;/p&gt;
DTSTART:20250626T150000
DTEND:20250626T170000
LOCATION:Bei den EisbachsurferInnen am Englischen Garten, Bus-Haltestelle Nationalmuseum/Haus der Kuns
ORGANIZER:Katholischer Deutscher Frauenbund
END:VEVENT
END:VCALENDAR