BEGIN:VCALENDAR
VERSION:2.0
PRODID:-//Stadtgeschichte München//DE
CALSCALE:GREGORIAN
BEGIN:VEVENT
UID:2575@stadtgeschichte-muenchen.de
SUMMARY:Kaiserin Elisabeth von Österreich und die Roseninsel
DESCRIPTION:
DTSTART:20120520T150000
DTEND:20120520T154500
LOCATION:Fähranleger auf der Roseninsel/ Starnberger See
ORGANIZER:Bayerische Schlösserverwaltung
END:VEVENT
END:VCALENDAR