BEGIN:VCALENDAR
VERSION:2.0
PRODID:-//Stadtgeschichte München//DE
CALSCALE:GREGORIAN
BEGIN:VEVENT
UID:25754@stadtgeschichte-muenchen.de
SUMMARY:Slow walking – Schloss Nymphenburg kennenlernen
DESCRIPTION:
DTSTART:20250309T140000
DTEND:20250309T153000
LOCATION:Schloss Nymphenburg, Hauptschloss stadtseitig
ORGANIZER:Bayerische Schlösserverwaltung
END:VEVENT
END:VCALENDAR