BEGIN:VCALENDAR
VERSION:2.0
PRODID:-//Stadtgeschichte München//DE
CALSCALE:GREGORIAN
BEGIN:VEVENT
UID:25759@stadtgeschichte-muenchen.de
SUMMARY:„Wasser marsch!“
DESCRIPTION:
DTSTART:20250518T140000
DTEND:20250518T153000
LOCATION:Schloss Nymphenburg vor dem Hauptschloss (stadtseitig)
ORGANIZER:Bayerische Schlösserverwaltung
END:VEVENT
END:VCALENDAR