BEGIN:VCALENDAR
VERSION:2.0
PRODID:-//Stadtgeschichte München//DE
CALSCALE:GREGORIAN
BEGIN:VEVENT
UID:25761@stadtgeschichte-muenchen.de
SUMMARY:Sehen und Staunen – im königlichen Schloss
DESCRIPTION:
DTSTART:20250601T140000
DTEND:20250601T153000
LOCATION:
ORGANIZER:Bayerische Schlösserverwaltung
END:VEVENT
END:VCALENDAR