BEGIN:VCALENDAR
VERSION:2.0
PRODID:-//Stadtgeschichte München//DE
CALSCALE:GREGORIAN
BEGIN:VEVENT
UID:25768@stadtgeschichte-muenchen.de
SUMMARY:Prinzen und Prinzessinnen unterwegs
DESCRIPTION:&lt;p&gt;Die Führung dauert etwa 90 Minuten und ist für Kinder ab 5 Jahren geeignet (erwachsene Begleitperson erforderlich)&lt;/p&gt;
DTSTART:20250803T140000
DTEND:20250803T153000
LOCATION:
ORGANIZER:Bayerische Schlösserverwaltung
END:VEVENT
END:VCALENDAR