BEGIN:VCALENDAR
VERSION:2.0
PRODID:-//Stadtgeschichte München//DE
CALSCALE:GREGORIAN
BEGIN:VEVENT
UID:25771@stadtgeschichte-muenchen.de
SUMMARY:„Ins rechte Licht rücken“
DESCRIPTION:
DTSTART:20250831T140000
DTEND:20250831T153000
LOCATION:Schloss Nymphenburg vor dem Hauptschloss (stadtseitig)
ORGANIZER:Bayerische Schlösserverwaltung
END:VEVENT
END:VCALENDAR