BEGIN:VCALENDAR
VERSION:2.0
PRODID:-//Stadtgeschichte München//DE
CALSCALE:GREGORIAN
BEGIN:VEVENT
UID:25775@stadtgeschichte-muenchen.de
SUMMARY:Auf den Spuren von König Max I. Joseph und seiner Familie durch Nymphenburg
DESCRIPTION:
DTSTART:20251212T133000
DTEND:20251212T160000
LOCATION:Schloss Nymphenburg vor dem Hauptschloss (stadtseitig)
ORGANIZER:Bayerische Schlösserverwaltung
END:VEVENT
END:VCALENDAR