BEGIN:VCALENDAR
VERSION:2.0
PRODID:-//Stadtgeschichte München//DE
CALSCALE:GREGORIAN
BEGIN:VEVENT
UID:25794@stadtgeschichte-muenchen.de
SUMMARY:„Es war zu einer Ankunft kaiserlicher Gäste alles auf das Vollkommenste eingerichtet“
DESCRIPTION:
DTSTART:20250823T140000
DTEND:20250823T153000
LOCATION:Eingangshalle Residenzmuseum
ORGANIZER:Bayerische Schlösserverwaltung
END:VEVENT
END:VCALENDAR