BEGIN:VCALENDAR
VERSION:2.0
PRODID:-//Stadtgeschichte München//DE
CALSCALE:GREGORIAN
BEGIN:VEVENT
UID:2583@stadtgeschichte-muenchen.de
SUMMARY:Die Schlosskapelle Blutenburg
DESCRIPTION:&lt;div&gt;Teilnehmerbeschr&amp;auml;nkung &amp;bull; Bitte anmelden:&lt;/div&gt; &lt;div&gt;&amp;nbsp;&lt;/div&gt; &lt;p&gt;Tel. (0 89) 1 79 08-444&amp;nbsp;Evelyn Heller M.A.&lt;/p&gt;
DTSTART:20120605T153000
DTEND:20120605T000000
LOCATION:Eingang Kapelle Blutenburg
ORGANIZER:Bayerische Schlösserverwaltung
END:VEVENT
END:VCALENDAR