BEGIN:VCALENDAR
VERSION:2.0
PRODID:-//Stadtgeschichte München//DE
CALSCALE:GREGORIAN
BEGIN:VEVENT
UID:25840@stadtgeschichte-muenchen.de
SUMMARY:Vom Odeonsplatz zur Prinzregentenstraße
DESCRIPTION:&lt;p&gt;In München entstanden ab 1933 die ersten Monumentalbauten des Nationalsozialismus. Mit überdimensionaler Propagandaarchitektur und breiten Prachtstraßen wurden massive städtebauliche Eingriffe geplant, die in ihren Anfängen heute noch zu sehen sind. Sie dienten auch als Kulisse für Festumzüge wie am &quot;Tag der Deutschen Kunst&quot;. Wir sehen uns in einem Rundgang vom Odeonsplatz über die Ludwigstraße bis zur Prinzregentenstraße Staats- und Kulturbauten an, die heute zum Stadtbild Münchens gehören, aber ihren Ursprung nicht gleich erkennen lassen.&lt;/p&gt;
DTSTART:20250522T100000
DTEND:20250522T113000
LOCATION:Feldherrnhalle Odeonsplatz
ORGANIZER:MVHS
END:VEVENT
END:VCALENDAR