BEGIN:VCALENDAR
VERSION:2.0
PRODID:-//Stadtgeschichte München//DE
CALSCALE:GREGORIAN
BEGIN:VEVENT
UID:25850@stadtgeschichte-muenchen.de
SUMMARY:Eine Rätselrallye durchs Hackenviertel
DESCRIPTION:&lt;p&gt;Bei dieser Rallye durch das Hackenviertel in der Altstadt sind Sie gefragt. Alles, was Sie mitbringen müssen, ist ein Interesse an neuen Entdeckungen, einen gewissen Blick fürs Detail und Freude am Rätseln. Gemeinsam suchen Sie in Straßenzügen, an Plätzen und Fassaden Antworten auf die gestellten Fragen und erfahren bei jeder &quot;errätselten&quot; Station dieser Rallye von einer Stadtführerin wichtige Hintergrundinformationen und teils kuriose Details zum jeweils (auf)gesuchten Ort. Lernen Sie auf diese Weise viele neue Facetten der Altstadt kennen.&lt;/p&gt;
DTSTART:20250824T110000
DTEND:20250824T133000
LOCATION:
ORGANIZER:MVHS
END:VEVENT
END:VCALENDAR