BEGIN:VCALENDAR
VERSION:2.0
PRODID:-//Stadtgeschichte München//DE
CALSCALE:GREGORIAN
BEGIN:VEVENT
UID:25852@stadtgeschichte-muenchen.de
SUMMARY:Münchner Straßennamen und ihre Geschichte(n) (Teil 1)
DESCRIPTION:&lt;p&gt;Die Namen der großen &quot;Lebensadern&quot; des Stadtteils, wie der Rosenheimer Straße, sind bekannt und auch deren Bedeutung und Herkunft lassen sich leicht erschließen. Bei der Comeniusstraße oder Langerstraße wird es schon schwieriger. Warum befindet sich die &quot;Metzgerstraße&quot; ausgerechnet in Haidhausen und wer war dieser Herr Schiltberger, nach dem die kleine Straße zwischen Johannisplatz und Steinstraße benannt ist? Was hat es mit den Straßennamen im &quot;Franzosenviertel&quot; auf sich? Und warum ist der Max-Weber-Platz nicht nur nach einer Person benannt?&lt;/p&gt;
DTSTART:20250713T110000
DTEND:20250713T130000
LOCATION:Wiener Platz, am Maibaum
ORGANIZER:MVHS
END:VEVENT
END:VCALENDAR