BEGIN:VCALENDAR
VERSION:2.0
PRODID:-//Stadtgeschichte München//DE
CALSCALE:GREGORIAN
BEGIN:VEVENT
UID:25859@stadtgeschichte-muenchen.de
SUMMARY:Schwabing und die Frauen
DESCRIPTION:&lt;p&gt;Schwabing war nicht nur ein Viertel der Kunstschaffenden, in dem bekannte Frauen wie Franziska von Reventlow, Ricarda Huch und Clara Ziegler lebten. Hier wohnten auch entschiedene Kämpferinnen für Pazifismus, Demokratie und Gleichberechtigung, etwa Anita Augspurg, die erste promovierte Juristin Deutschlands und Mitbegründerin des Deutschen Verbands für Frauenstimmrecht. Oder Toni Pfülf, die als SPD-Abgeordnete 1933 im Reichstag gegen das Ermächtigungsgesetz stimmte. Begeben Sie sich bei diesem Rundgang auf die Spuren mutiger Wegbereiterinnen.&lt;/p&gt;
DTSTART:20250703T180000
DTEND:20250703T200000
LOCATION:Ludwigstr./Ecke Galeriestr.
ORGANIZER:MVHS
END:VEVENT
END:VCALENDAR