BEGIN:VCALENDAR
VERSION:2.0
PRODID:-//Stadtgeschichte München//DE
CALSCALE:GREGORIAN
BEGIN:VEVENT
UID:25883@stadtgeschichte-muenchen.de
SUMMARY:Verborgenes Mittelalter – vergangene Welten unter Münchens Pflaster
DESCRIPTION:&lt;p&gt;Man muss in der Münchner Altstadt nicht tief graben, um auf eine faszinierende, längst vergangene Welt zu stoßen. Alte Gewölbe, längst vergessene Bäche, mittelalterliche Stadtmauern, verblichene Knochen und Münchens ältester Raum - unter Münchens Pflaster ist die Vergangenheit quicklebendig! Auf dieser virtuellen Tour durchstreifen wir Münchens alte Gassen und Plätze und lassen uns überraschen: Wer hätte gedacht, welch jahrhundertealtes Geheimnis manch vertrauter Ort bereithält?&lt;/p&gt;
DTSTART:20250327T173000
DTEND:20250327T190000
LOCATION:
ORGANIZER:MVHS
END:VEVENT
END:VCALENDAR