BEGIN:VCALENDAR
VERSION:2.0
PRODID:-//Stadtgeschichte München//DE
CALSCALE:GREGORIAN
BEGIN:VEVENT
UID:25909@stadtgeschichte-muenchen.de
SUMMARY:Grün am Haus? Alles zu Dach- und Fassadenbegrünung
DESCRIPTION:&lt;p&gt;Fassaden- und Dachbegrünung bringt Farbe und Leben ans Haus. Sie verbessert Klima und Luft, schützt den Wohnraum vor Hitze und Kälte und bildet Lebensraum für Tiere. Die „Grüne Architektur“ erhält Einzug in unsere Städte. Unsere Expertin gibt wertvolle Tipps und Maßnahmenbeispiele, wie die Begrünung auch an Ihrem Gebäude gelingt!&lt;/p&gt;&lt;p&gt;In Kooperation mit der Stadtsanierung Moosach.&lt;/p&gt;
DTSTART:20250326T180000
DTEND:20250326T190000
LOCATION:
ORGANIZER:MVHS
END:VEVENT
END:VCALENDAR