BEGIN:VCALENDAR
VERSION:2.0
PRODID:-//Stadtgeschichte München//DE
CALSCALE:GREGORIAN
BEGIN:VEVENT
UID:25966@stadtgeschichte-muenchen.de
SUMMARY:Eastern Front
DESCRIPTION:&lt;p&gt;Yevhen Titarenko ist seit 2014 in der Ostukraine im Einsatz und begleitet die Ereignisse mit seiner Kamera. Er filmt alles: die Rettungseinsätze seines Sanitätsbataillons, bei denen es gilt, den ganz akuten Fällen zu helfen, die Fahrten in verwüstete Gegenden im Donezk oder fast idyllische Szenen in kurzen Urlauben bei seiner Familie. Dieser Film zeigt die schmerzliche und blutige Nähe eines Krieges in unserer Gegenwart, dessen Eindrücke man nicht mehr so schnell los wird.&lt;/p&gt;&lt;p&gt;&lt;br&gt;&amp;nbsp;&lt;/p&gt;
DTSTART:20250605T180000
DTEND:20250605T200000
LOCATION:Vortragssaal 2 Einsteinstr. 28 München
ORGANIZER:MVHS
END:VEVENT
END:VCALENDAR