BEGIN:VCALENDAR
VERSION:2.0
PRODID:-//Stadtgeschichte München//DE
CALSCALE:GREGORIAN
BEGIN:VEVENT
UID:25973@stadtgeschichte-muenchen.de
SUMMARY:Dimensionen des Zweiten Weltkriegs
DESCRIPTION:&lt;p&gt;Kaum eine Phase der Weltgeschichte dürfte so intensiv erforscht sein wie die nationalsozialistische Schreckensherrschaft und der Zweite Weltkrieg in Europa. In diesem Vortrag wollen wir uns jedoch den etwas weniger beachteten Episoden der Zeitgeschichte sowie ihren Persönlichkeiten annähern. Wie führte die Sowjetunion unter Stalin den Kampf um Berlin und unter welchen Vorzeichen? Was bleibt im kollektiven Gedächtnis der Deutschen?&lt;/p&gt;
DTSTART:20250507T200000
DTEND:20250507T213000
LOCATION:Bildungszentrum Einsteinstr. 28
ORGANIZER:MVHS
END:VEVENT
END:VCALENDAR