BEGIN:VCALENDAR
VERSION:2.0
PRODID:-//Stadtgeschichte München//DE
CALSCALE:GREGORIAN
BEGIN:VEVENT
UID:25984@stadtgeschichte-muenchen.de
SUMMARY:Erinnerungszeichen für Elisabeth Neubert
DESCRIPTION:&lt;p&gt;n der Iblherstraße 6 wird der jüdischen Münchnerin &lt;strong&gt;Elisabeth Neubert&lt;/strong&gt; gedacht, die in Auschwitz ermordet wurde. Sprechen wird Stadtrat &lt;strong&gt;Christian Smolka&lt;/strong&gt;.&lt;/p&gt;&lt;p&gt;Seit 1898 lebte sie in München und arbeitete in einem kaufmännischen Beruf. 1919 heiratete sie den evangelischen, neun Jahre jüngeren Johannes (Hans) Albert Neubert. Durch ihre „Mischehe“ war Elisabeth Neubert vor der nationalsozialistischen Verfolgung geschützt, sie musste jedoch erleben, wie ihre Geschwister deportiert wurden. Als ihr Ehemann Hans im April 1943 starb, verlor Elisabeth Neubert ihren Schutzstatus: Am 18. Mai 1943 deportierte die Gestapo sie von Berlin aus in das Konzentrations- und Vernichtungslager Auschwitz-Birkenau.&lt;/p&gt;&lt;p&gt;Iblherstr. 6, 81739 München - Perlach (U-Bahn Therese-Giehse-Allee)&lt;br&gt;Teilnahme kosten- und barrierefrei. Alle Details in Kürze auf erinnerungszeichen.de&lt;br&gt;Bild: Elisabeth Neubert, Kennkartendoppel. Foto: Stadtarchiv München.&lt;/p&gt;
DTSTART:20250219T150000
DTEND:20250219T160000
LOCATION:Iblherstraße 6
ORGANIZER:Public History München
END:VEVENT
END:VCALENDAR