BEGIN:VCALENDAR
VERSION:2.0
PRODID:-//Stadtgeschichte München//DE
CALSCALE:GREGORIAN
BEGIN:VEVENT
UID:25985@stadtgeschichte-muenchen.de
SUMMARY:Waiting in Action
DESCRIPTION:&lt;p&gt;Am 10. Februar 1970 am Flughafen München-Riem war Channa Maron eine der Schwerverletzten. Der einstige deutsch-jüdische Kinderstar und zu dieser Zeit israelische „Königin der Bühne“ ihre&amp;nbsp; Karriere und ihr gesellschaftspolitisches Engagement fort. Ihre Tochter, &lt;strong&gt;Dr. Ofra Rechter&lt;/strong&gt; macht diese Stimme wieder hörbar und multipliziert die Frage danach, wie Warten zu einem Akt des Widerstands gegen das Vergessen und des Sichtbarmachens werden kann.&lt;/p&gt;
DTSTART:20250213T190000
DTEND:20250213T203000
LOCATION:Habibi Kiosk, Münchner Kammerspiele Maximilianstraße 26
ORGANIZER:Public History München
END:VEVENT
END:VCALENDAR