BEGIN:VCALENDAR
VERSION:2.0
PRODID:-//Stadtgeschichte München//DE
CALSCALE:GREGORIAN
BEGIN:VEVENT
UID:25988@stadtgeschichte-muenchen.de
SUMMARY:Führung Beth-Shalom-Synagoge
DESCRIPTION:&lt;p&gt;Im Rahmen der Führung, die 90 Minuten dauert, erhalten die Besucher eine Einführung in die Geschichte der Liberalen jüdischen Gemeinde in München und in die Gestalltung einer Synagoge. Erläutert werden die Grundlagen der jüdischen Religion und die Lebenspraxis sowie der Ablauf des jüdischen Jahres mit seinen Feiertagen und des Lebenszyklus. Der Ablauf wird auch durch die Fragen der Besucher mit bestimmt, für die ausreichend Zeit eingeplant ist.&lt;/p&gt;&lt;p&gt;Herren, sowie verheiratete Frauen sind gebeten, eine Kopfbedeckung während des Besuchs zu tragen.&lt;/p&gt;&lt;p&gt;Aus Sicherheitsgründen benötigen wir für Ihre Anmeldung eine Kopie Ihres Ausweises (als Scan mit der Anmeldung). Liegt diese bis zum Anmeldeschluss nicht vor, ist eine Teilnahme nicht möglich. Wir weisen darauf hin, dass wir die Anmeldedaten der Liberalen jüdischen Gemeinde München Beth Shalom e.V. weiterleiten. Ihre Anmeldung zur Führung verstehen wir als Einwilligung in die Datenverarbeitung und -speicherung. Wir versichern die Einhaltung der Datenschutzregelungen der DSGVO, des BDSG und des BayDSG. Eine Weitergabe der Daten an Dritte, mit Ausnahme der Liberalen jüdischen Gemeinde München Beth Shalom e.V. erfolgt nicht. Nach Aufgabenerfüllung werden sämtliche Daten unwiderruflich gelöscht.&lt;/p&gt;
DTSTART:20250602T173000
DTEND:20250602T190000
LOCATION:wird der Teilnahmebestätigung mitgeteilt
ORGANIZER:ErinnerungsWerkstatt München e.V.
END:VEVENT
END:VCALENDAR