BEGIN:VCALENDAR
VERSION:2.0
PRODID:-//Stadtgeschichte München//DE
CALSCALE:GREGORIAN
BEGIN:VEVENT
UID:25989@stadtgeschichte-muenchen.de
SUMMARY:Erinnerungszeichen für Evelyne Schönberg, Arthur Schönberg, Lotte Ernst, Rudolf Ernst
DESCRIPTION:&lt;p&gt;15.00 Uhr&lt;/p&gt;&lt;p&gt;Gedenkveranstaltung&lt;/p&gt;&lt;p&gt;Deutsches Museum, Bibliothek&lt;br&gt;Museumsinsel 1, 80538 München&lt;br&gt;S-Bahn Isartor&lt;/p&gt;&lt;p&gt;Prof. Dr. rer. nat. Wolfgang M. Heckl – Deutsches Museum&lt;/p&gt;&lt;p&gt;Stadträtin Nimet Gökmenoğlu – in Vertretung des Oberbürgermeisters der Landeshauptstadt München&lt;/p&gt;&lt;p&gt;Dr. h.c. mult. Charlotte Knobloch – Präsidentin der Israelitischen Kultusgemeinde München und Oberbayern&lt;/p&gt;&lt;p&gt;Dr. Bernhard Ebneth – Bayerische Akademie der Wissenschaften&lt;/p&gt;&lt;p&gt;Dr. Wilhelm Füßl – Archivdirektor i. R.&lt;/p&gt;&lt;p&gt;Dr. Anna Messner – Heinrich-Heine-Universität Düsseldorf&lt;/p&gt;&lt;p&gt;Carole Ernst-Schonberg – im Namen der Familie&lt;/p&gt;&lt;p&gt;Musik&lt;/p&gt;&lt;p&gt;Anne Schätz, Klavier&lt;/p&gt;&lt;p&gt;Lydia Teuscher-Bastian, Gesang&lt;/p&gt;&lt;p&gt;Arnold Schönberg – &lt;i&gt;„In hellen Träumen hab ich dich oft geschaut“&lt;/i&gt; (Text: Alfred Gold)&lt;/p&gt;&lt;p&gt;Victor Ullmann – &lt;i&gt;„Sturmlied“&lt;/i&gt;, aus &lt;i&gt;„Fünf Liebeslieder von Ricarda Huch“&lt;/i&gt;, op. 26 (Andante Agitato)&lt;/p&gt;&lt;p&gt;Ca. 17:00 Uhr&lt;br&gt;Anbringung der Erinnerungszeichen in der Hiltenspergerstraße 43&lt;/p&gt;
DTSTART:20250305T150000
DTEND:20250305T170000
LOCATION:Deutsches Museum, Bibliothek Museumsinsel 1
ORGANIZER:ErinnerungsWerkstatt München e.V.
END:VEVENT
END:VCALENDAR