BEGIN:VCALENDAR
VERSION:2.0
PRODID:-//Stadtgeschichte München//DE
CALSCALE:GREGORIAN
BEGIN:VEVENT
UID:25992@stadtgeschichte-muenchen.de
SUMMARY:Der Friedhof am Perlacher Forst – Die Gräber der Angehörigen der Widerstandsgruppe Weiße R
DESCRIPTION:&lt;p&gt;Der Friedhof am Perlacher Forst – Die Gräber der Angehörigen der Widerstandsgruppe Weiße Rose&lt;br&gt;&lt;br&gt;Der Spaziergang führt uns zu den Gräbern der Widerstandskämpfer*innen der Weißen Rose und ihrer Angehörigen. Wir hören etwas von ihrer Geschichte, aber auch von ihrer Motivation und ihren Zielen, für die sie gelebt haben und für die sie ihr Leben eingesetzt haben. Darüberhinaus besuchen wir auch Gräber weiterer Opfer des Nationalsozialismus.&lt;/p&gt;
DTSTART:20250225T150000
DTEND:20250225T163000
LOCATION: Tür an der Aussegnungshalle im Zentrum des Friedhofs, Stadelheimer Str. 24
ORGANIZER:Evangelisches Bildungswerk e.V.
END:VEVENT
END:VCALENDAR