BEGIN:VCALENDAR
VERSION:2.0
PRODID:-//Stadtgeschichte München//DE
CALSCALE:GREGORIAN
BEGIN:VEVENT
UID:25999@stadtgeschichte-muenchen.de
SUMMARY:Zu Fuß! – unterwegs in Unter- und Obergiesing
DESCRIPTION:&lt;p&gt;Nicht jede*r fährt Auto oder Fahrrad. Nicht einmal U-Bahn, Bus und Tram nutzt jede*r. Aber Fußgänger*in ist jede*r irgendwann. Wird unserem wichtigsten Fortbewegungsmittel, den eigenen Füßen, genügend Aufmerksamkeit in der Stadtplanung und der Gestaltung des öffentlichen Raumes gewidmet? Auch für die Inklusion ist das Thema Fuß- oder Rolli-Eignung von Wegen elementar. Wie es darum in Giesing steht, wollen wir bei einem Stadtteilspaziergang und einer anschließenden Gesprächsrunde ergründen.&lt;/p&gt;&lt;p&gt;In Zusammenarbeit mit dem Verein der Freunde Giesings e.V.&lt;/p&gt;
DTSTART:20250514T190000
DTEND:20250514T210000
LOCATION:Stadtteilkulturzentrum Giesinger Bahnhofplatz 1
ORGANIZER:MVHS
END:VEVENT
END:VCALENDAR