BEGIN:VCALENDAR
VERSION:2.0
PRODID:-//Stadtgeschichte München//DE
CALSCALE:GREGORIAN
BEGIN:VEVENT
UID:26003@stadtgeschichte-muenchen.de
SUMMARY:Koloniale Spuren in München
DESCRIPTION:&lt;p&gt;In München gibt es viele Orte, die an die deutsche Kolonialgeschichte erinnern. Oft jedoch fehlt bei den Namen von Straßen und Plätzen der Kontext, der die Benennung erklärt, und bei berühmten Personen wird nicht immer auf ihre fragwürdigeren Taten hingewiesen. Die Vortragsreihe lenkt den Blick auf afrikanische Anführer*innen des Widerstands, auf aktuelle Aspekte der früheren Kolonien und auf weitere sichtbare und weniger sichtbare Spuren in der Stadt.&lt;/p&gt;&lt;p&gt;Jede Kurseinheit steht für sich und kann auch einzeln gebucht werden.&lt;/p&gt;&lt;p&gt;Schon früh betrachtete Europa (und ab Mitte des 19. Jahrhunderts auch das Deutsche Reich) die Küsten Westafrikas ausschließlich als Region nützlicher Ressourcen: die „Waren“ Gold, Elfenbein und Sklaven. Togo und Kamerun werden als deutsche Kolonien vorgestellt, und Sie lernen einige der dortigen Akteure kennen, nach denen in München keine Straßen benannt sind.&lt;/p&gt;
DTSTART:20250321T103000
DTEND:20250321T120000
LOCATION:MVHS in Moosach Baubergerstr. 6a
ORGANIZER:MVHS
END:VEVENT
END:VCALENDAR