BEGIN:VCALENDAR
VERSION:2.0
PRODID:-//Stadtgeschichte München//DE
CALSCALE:GREGORIAN
BEGIN:VEVENT
UID:26007@stadtgeschichte-muenchen.de
SUMMARY:Mit dem Fahrrad durch den Münchner Nordosten - Ortstermin
DESCRIPTION:&lt;p&gt;Der Münchner Nordosten ist heute vor allem durch einzelne Siedlungsinseln inmitten der freien Landschaft geprägt. Englschalking, Daglfing und Johanneskirchen spielen mit ihren historisch erhaltenen Dorfkernen eine besondere Rolle. Hier soll in den nächsten Jahren ein neues Stadtquartier mit großzügigen Grün- und Erholungsflächen entstehen. Zuständige des Referats für Stadtplanung und Bauordnung und weitere mit der Planung befasste Gäste beantworten Ihre Fragen.&lt;/p&gt;&lt;p&gt;Endstation ist die Olympia-Reitanlage.&lt;/p&gt;&lt;p&gt;In Kooperation mit dem Referat für Stadtplanung und Bauordnung.&lt;/p&gt;
DTSTART:20250603T170000
DTEND:20250603T190000
LOCATION:S-Bahnhof Englschalking (Ostseite), Ecke Brodersenstr./Seidleinweg
ORGANIZER:MVHS
END:VEVENT
END:VCALENDAR