BEGIN:VCALENDAR
VERSION:2.0
PRODID:-//Stadtgeschichte München//DE
CALSCALE:GREGORIAN
BEGIN:VEVENT
UID:26023@stadtgeschichte-muenchen.de
SUMMARY:Passagen, Höfe und Gärten
DESCRIPTION:&lt;p&gt;Kreative Wege für Entdecker*innen führen zu einigen besonders schönen Orten. Wir besuchen historische und moderne Höfe, versteckte Gassen und Passagen in der Innenstadt. Neben bedeutenden Kunstwerken und außergewöhnlichen Architekturen finden wir grüne Oasen mitten in München. Uns begegnen Wirtshausgärten, Innenhöfe ehemaliger Adelspalais, innovative Passagen - mit verführerischen Geschäften - und vieles mehr.&lt;/p&gt;&lt;p&gt;&amp;nbsp;&lt;/p&gt;&lt;p&gt;&lt;a href=&quot;https://www.mvhs.de/kurse/muenchen-unsere-stadt/muenchen-umgebung-entdecken/muenchen-heute-stadtviertel-entdecken/stadtzentrum/passagen-hoefe-und-gaerten-muenchen-fuer-kulturfreund-innen-und-solche-die-es-werden-wollen-460-C-U182030#&quot;&gt;Auf die Interessentenliste eintragen&lt;/a&gt;&lt;/p&gt;
DTSTART:20250317T173000
DTEND:20250317T193000
LOCATION:Asamkirche, vor dem Eingang Sendlinger Str. 32
ORGANIZER:MVHS
END:VEVENT
END:VCALENDAR