BEGIN:VCALENDAR
VERSION:2.0
PRODID:-//Stadtgeschichte München//DE
CALSCALE:GREGORIAN
BEGIN:VEVENT
UID:26027@stadtgeschichte-muenchen.de
SUMMARY:Der Ungeliebte. Kurfürst Karl Theodor in München
DESCRIPTION:&lt;p&gt;Über fünfzig Jahre herrschte der Wittelsbacher aus dem Hause Pfalz-Sulzbach als Kurfürst, erst in Mannheim, dann in München. Während Karl Theodor in der Pfalz für seine kulturellen Errungenschaften geliebt wurde, hatte er ab 1777 in München einen schweren Stand. Die Ausstellungsführung mit der Kunsthistorikerin Dr. Beatrice Trost wird die Facetten seines Wirkens schildern.&lt;/p&gt;&lt;p&gt;&amp;nbsp;&lt;/p&gt;
DTSTART:20250323T103000
DTEND:20250323T120000
LOCATION:Bayerisches Nationalmuseum Prinzregentenstr. 3
ORGANIZER:MVHS
END:VEVENT
END:VCALENDAR