BEGIN:VCALENDAR
VERSION:2.0
PRODID:-//Stadtgeschichte München//DE
CALSCALE:GREGORIAN
BEGIN:VEVENT
UID:2605@stadtgeschichte-muenchen.de
SUMMARY:München - Weinstadt und Biermetropole
DESCRIPTION:&lt;p&gt;&amp;nbsp;&lt;/p&gt; &lt;div&gt;Bis zum Ende des 16. Jahrhunderts war der Wein in M&amp;uuml;nchen das dominierende Volksgetr&amp;auml;nk. Obwohl hier auch Wein angebaut wurde, war M&amp;uuml;nchen dennoch mehr ein Handelsplatz f&amp;uuml;r Wein. Von Mittenwald kamen mit dem Flo&amp;szlig; die &amp;bdquo;Welsch-Weine&amp;quot; sowie die teueren &amp;bdquo;S&amp;uuml;dweine&amp;quot;, als R&amp;uuml;ckfracht der Salzlieferungen nach W&amp;uuml;rttemberg und in die Schweiz kamen &amp;bdquo;Neckarweine&amp;quot; und &amp;bdquo;Els&amp;auml;sserweine&amp;quot; in die Stadt. Im Zeitalter des Merkantilismus setzte sich das Bier als Volksgetr&amp;auml;nk durch und dr&amp;auml;ngte den Wein in den Hintergrund. M&amp;uuml;nchen entwickelte sich zur Biermetropole mit weltweitem Exportgesch&amp;auml;ft.&lt;/div&gt; &lt;p&gt;&amp;nbsp;&lt;/p&gt;
DTSTART:20121020T143000
DTEND:20121020T170000
LOCATION:Marienplatz - Mariensäule
ORGANIZER:MVHS München Mitte   
END:VEVENT
END:VCALENDAR