BEGIN:VCALENDAR
VERSION:2.0
PRODID:-//Stadtgeschichte München//DE
CALSCALE:GREGORIAN
BEGIN:VEVENT
UID:26062@stadtgeschichte-muenchen.de
SUMMARY:Die Isar bei Grünwald - Natur, Geschichte und Technik
DESCRIPTION:&lt;p&gt;Grünwald und die Isar gehören zusammen. Erfahren Sie, warum die Flussufer bei Grünwald unbebaut geblieben sind, welche geschichtliche Bedeutung die Isar für die Region hatte und welche Legenden sich um sie ranken. Wie wurde die Isar durch Kanalisierungs- und Renaturierungsprojekte im Laufe der Zeit verändert? Wir werfen einen Blick auf das Baierbrunner Wehr – früher ökologisches Hindernis, heute faszinierendes Bauwerk mit innovativer Fischtreppe, das auf geschickte Weise Naturschutz und Technik vereint.&lt;/p&gt;
DTSTART:20250401T190000
DTEND:20250401T203000
LOCATION:Bürgerhaus Römerschanz Dr.-Max-Str. 1
ORGANIZER:MVHS
END:VEVENT
END:VCALENDAR