BEGIN:VCALENDAR
VERSION:2.0
PRODID:-//Stadtgeschichte München//DE
CALSCALE:GREGORIAN
BEGIN:VEVENT
UID:26081@stadtgeschichte-muenchen.de
SUMMARY:Ein Blick über den Zaun: Höfe, Gärten und Parks in Sendling
DESCRIPTION:&lt;p&gt;Sendling hat mit dem Implerplatz und dem Neuhofener Park viel Grün zu bieten. Wir erkunden die öffentlichen Grünflächen und einige sehenswerte Höfe und Gärten, die in der Hektik des Alltags oft verborgen bleiben. Bürgermeister Jakob von Bauer ließ schon 1839 mit den Isarauen einen ausgedehnten Landschaftspark anlegen. Wir enden an der Friedenseiche, die 1871 nach dem deutsch-französischen Kriegsende gepflanzt wurde. Lassen Sie sich von den &quot;grünen&quot; Qualitäten unseres Viertels überzeugen!&lt;/p&gt;
DTSTART:20250803T100000
DTEND:20250803T120000
LOCATION:Albert-Roßhaupter-Str. 8/Ecke Meindlstr.
ORGANIZER:MVHS
END:VEVENT
END:VCALENDAR