BEGIN:VCALENDAR
VERSION:2.0
PRODID:-//Stadtgeschichte München//DE
CALSCALE:GREGORIAN
BEGIN:VEVENT
UID:26088@stadtgeschichte-muenchen.de
SUMMARY:High-Tech in historischem Gebäude
DESCRIPTION:&lt;p&gt;Seit 1923 erzeugt das Laufwasserkraftwerk &quot;Isarwerk 2&quot; aus dem Wasser des Isarkanals umweltfreundlichen Strom für städtische Haushalte. Im Rahmen der &quot;Ausbauoffensive Erneuerbare Energien&quot; modernisierten die Stadtwerke München das historische Wasserkraftwerk. Seit 2010 erzeugen vier Kaplan-Turbinen mit einer Gesamtleistung von 2500 Kilowatt Strom für 6000 Münchner Haushalte. Eine Referentin führt Sie im Auftrag der Stadtwerke München durch die Anlagen und erklärt die Funktionsweise.&lt;/p&gt;&lt;p&gt;In Kooperation mit der Stadtwerke München GmbH.&lt;/p&gt;
DTSTART:20250605T143000
DTEND:20250605T160000
LOCATION:Laufwasserkraftwerk Isarwerk 2 (großes Stahltor im Bereich des Unterwassers) Isarauen 4
ORGANIZER:MVHS
END:VEVENT
END:VCALENDAR