BEGIN:VCALENDAR
VERSION:2.0
PRODID:-//Stadtgeschichte München//DE
CALSCALE:GREGORIAN
BEGIN:VEVENT
UID:26090@stadtgeschichte-muenchen.de
SUMMARY:SüdpART
DESCRIPTION:&lt;p&gt;Zum sechsten Mal findet vom 5. Juli bis 18. Oktober 2025 im Südpark die Naturkunst Biennale SüdpART statt (www.suedpART.de). Auf dieser Urban-Land-Art-Tour gibt die Initiatorin und Kuratorin Lore Galitz Hintergrundinformationen zu dem Projekt und den Kunstwerken. Diese sind einzig aus in der Natur vorhandenen Materialien geschaffen und vergehen nach dem Ende wieder. Somit verbindet SüdpART den Menschen mit dem Wald und der Natur und eröffnet ganz neue, ungewohnte Perspektiven.&lt;/p&gt;
DTSTART:20250729T180000
DTEND:20250729T193000
LOCATION:
ORGANIZER:MVHS
END:VEVENT
END:VCALENDAR