BEGIN:VCALENDAR
VERSION:2.0
PRODID:-//Stadtgeschichte München//DE
CALSCALE:GREGORIAN
BEGIN:VEVENT
UID:26113@stadtgeschichte-muenchen.de
SUMMARY:Rund um den Leonrodplatz
DESCRIPTION:&lt;p&gt;Am Leonrodplatz starten wir einen Rundgang über die einzigartige Entwicklung des Kreativquartiers mit einer bunten Mischung aus kreativen und kulturellen Nutzungen in den Bestandsgebäuden und neuen temporären Bauten. Gegenüber wächst das neue Strafjustizzentrum, in das sechs Behörden mit 1300 Mitarbeitenden einziehen werden. Richtung Olympiapark baut Stadibau ein neues Quartier mit 611 Wohnungen für Staatsbedienstete. Beim Spaziergang durch das Areal, diskutieren Sie mit der BA-Vorsitzenden Anna Hanusch die Entwicklungen und auch die Auswirkungen auf den Öffentlichen Raum.&lt;/p&gt;
DTSTART:20250627T160000
DTEND:20250627T173000
LOCATION:Dachauer Str./Ecke Leonrodplatz
ORGANIZER:MVHS
END:VEVENT
END:VCALENDAR