BEGIN:VCALENDAR
VERSION:2.0
PRODID:-//Stadtgeschichte München//DE
CALSCALE:GREGORIAN
BEGIN:VEVENT
UID:26127@stadtgeschichte-muenchen.de
SUMMARY:Erinnerungszeichen für Hermine Bernheimer, Minna Hirschberg, Hermann Binswanger, Erna und 
DESCRIPTION:&lt;p&gt;10:00 Gedenkveranstaltung&lt;/p&gt;&lt;p&gt;11:30 Anbringung des Erinnerungszeichen für Minna Hirschberg&lt;br&gt;&amp;nbsp; &amp;nbsp; &amp;nbsp; &amp;nbsp; &amp;nbsp; Franz-Josef-Strauß-Ring 4&lt;/p&gt;&lt;p&gt;14:00 Anbringung des Erinnerungszeichen für Hermine Bernheimer&lt;br&gt;&amp;nbsp; &amp;nbsp; &amp;nbsp; &amp;nbsp; &amp;nbsp; Herzog-Max-Straße/Rückseite Oberpollinger&lt;/p&gt;
DTSTART:20250331T100000
DTEND:20250331T110000
LOCATION:Bayerisches Nationalmuseum Prinzregentenstraße 3
ORGANIZER:Public History München
END:VEVENT
END:VCALENDAR