BEGIN:VCALENDAR
VERSION:2.0
PRODID:-//Stadtgeschichte München//DE
CALSCALE:GREGORIAN
BEGIN:VEVENT
UID:26128@stadtgeschichte-muenchen.de
SUMMARY:Erinnerungszeichen für Familien Holzer und Spatz
DESCRIPTION:&lt;p&gt;16:00 Gedenkveranstaltung&lt;br&gt;17:15 Anbringung der Erinnerungszeichen am ehemaligen Wohnort, Trogerstraße 44&lt;/p&gt;
DTSTART:20250409T160000
DTEND:20250409T173000
LOCATION:Staatl. Gymnasium Max-Josef-Stift (Aula) Mühlbaurstraße 15
ORGANIZER:Public History München
END:VEVENT
END:VCALENDAR