BEGIN:VCALENDAR
VERSION:2.0
PRODID:-//Stadtgeschichte München//DE
CALSCALE:GREGORIAN
BEGIN:VEVENT
UID:26131@stadtgeschichte-muenchen.de
SUMMARY:Ludwig II in München
DESCRIPTION:&lt;p&gt;Sein kurzes, tragisch endendes Leben wird oft auf Bayerische Schlösser reduziert, doch kaum ein Wittelsbacher Herrscher wurde so missverstanden und wird von offizieller Seite bis heute in seiner Bedeutung verkannt. Diese Tour zeigt an Münchner Originalschauplätzen, wie Ludwig II. trotz widriger Umstände Enormes für München und Bayern leistete.&lt;/p&gt;&lt;p&gt;&lt;br&gt;&amp;nbsp;&lt;/p&gt;
DTSTART:20250509T160000
DTEND:20250509T173000
LOCATION:Karlsplatz/Stachus, unter dem Karlstor
ORGANIZER:VHS SüdOst Landkreis München
END:VEVENT
END:VCALENDAR