BEGIN:VCALENDAR
VERSION:2.0
PRODID:-//Stadtgeschichte München//DE
CALSCALE:GREGORIAN
BEGIN:VEVENT
UID:26133@stadtgeschichte-muenchen.de
SUMMARY:Aktuelles im Viertel: das neue Hans-Sieber-Haus
DESCRIPTION:&lt;p&gt;In Allach entsteht bis voraussichtlich Ende 2025 in der Franz-Nißl-Straße ein neues Haus der Münchenstift GmbH, einer Tochtergesellschaft der Stadt München. Im neuen Pflegeheim werden mehr als 200 Pflegeplätze, ein geschützter Wohnbereich, ein ambulanter Dienst und eine Tagespflege vorhanden sein. In gemütlicher Runde wird das neue Pflegeheim vorgestellt, alle Fragen beantwortet und Einblick in die Betreuung und Räumlichkeiten geboten.&lt;/p&gt;&lt;p&gt;Die Veranstaltung findet in Kooperation mit dem Alten- und Service-Zentrum Allach-Untermenzing statt.&lt;/p&gt;
DTSTART:20250605T140000
DTEND:20250605T153000
LOCATION:Volkshochschule Oertelplatz 11
ORGANIZER:MVHS
END:VEVENT
END:VCALENDAR