BEGIN:VCALENDAR
VERSION:2.0
PRODID:-//Stadtgeschichte München//DE
CALSCALE:GREGORIAN
BEGIN:VEVENT
UID:26147@stadtgeschichte-muenchen.de
SUMMARY:Anbringung des Erinnerungszeichen für Erna und Siegmund Marx
DESCRIPTION:
DTSTART:20250402T150000
DTEND:20250402T163000
LOCATION:Geibelstraße 8
ORGANIZER:Public History München
END:VEVENT
END:VCALENDAR