BEGIN:VCALENDAR
VERSION:2.0
PRODID:-//Stadtgeschichte München//DE
CALSCALE:GREGORIAN
BEGIN:VEVENT
UID:26169@stadtgeschichte-muenchen.de
SUMMARY:Franz Graf Pocci: Feder und Farbe gegen Burnout
DESCRIPTION:&lt;p&gt;Franz Graf Pocci – ein Pendler zwischen Broterwerb, Künstlerdasein und Burnout – begleitet uns durch zahlreiche Zitate und Selbstkarikaturen zu seinem Geburtshaus am Promenadeplatz und zu seinem späteren Wohnhaus am ehemaligen Dultplatz. Das Leben des Multitalents, das loyal im Dienste dreier bayerischer Könige stand, fächert sich auf: vom Zeremonienmeister über den Hofmusikintendanten zum „Kasperlgrafen“. Gedichte, Lieder und Zeichnungen zeigen ihn in seiner chaotischen Zerstreuung und Kreativität als Meister der Lebenskunst.&lt;/p&gt;
DTSTART:20250507T153000
DTEND:20250507T173000
LOCATION:vor der Oper Max-Joseph-Platz
ORGANIZER:MVHS
END:VEVENT
END:VCALENDAR