BEGIN:VCALENDAR
VERSION:2.0
PRODID:-//Stadtgeschichte München//DE
CALSCALE:GREGORIAN
BEGIN:VEVENT
UID:26170@stadtgeschichte-muenchen.de
SUMMARY:Sternengedichte und Sternorte in München
DESCRIPTION:&lt;p&gt;Ein literarischer Spaziergang, der die ungewöhnlichen Verbindungen zwischen Sternen und Münchner Orten erkundet: Das poetische Sternenkarussell des Dichters Max Dauthendey dreht sich ganz in der Nähe seines Lieblingscafés, Sisis verschlüsselte erotische Lyrik &quot;Sternenkunde&quot; erklingt am Ort ihres Geburtshauses und Rilkes ethische Selbstreflexion angesichts des gewaltigen Kosmos geht mit einem Fresko an der Ludwigstraße einen dichten Dialog ein. Diese astropoetische Exkursion lässt die Maxvorstadt in einem anderen Licht erstrahlen.&lt;/p&gt;
DTSTART:20250603T193000
DTEND:20250603T213000
LOCATION:Akademiestraße 4
ORGANIZER:MVHS
END:VEVENT
END:VCALENDAR