BEGIN:VCALENDAR
VERSION:2.0
PRODID:-//Stadtgeschichte München//DE
CALSCALE:GREGORIAN
BEGIN:VEVENT
UID:26172@stadtgeschichte-muenchen.de
SUMMARY:Kaltes Wasser wirkt Wunder!
DESCRIPTION:&lt;p&gt;Im Jahr 1844 gründete der Badmeister Joseph Bleile die Kaltwasseranstalt Thalkirchen. Der Vortrag über das Buch &quot;180 Jahre Heilkunst in Thalkirchen&quot; schildert die schwierigen Anfänge der Kaltwasser-Heilmethode sowie die Anfeindungen der approbierten Ärzte gegen die &quot;Wasserdoktoren&quot;. Dagegen standen die Erfolge der Wasserheilanstalt in Thalkirchen, die den Ort weit über die Grenzen Bayerns hinaus berühmt machten. Eine spannende Geschichte über ein Heilmittel, die auch die modernen Eiswasserschwimmer*innen in der Isar interessieren dürfte.&lt;/p&gt;
DTSTART:20250401T190000
DTEND:20250401T200000
LOCATION:Volkshochschule Albert-Roßhaupter-Str. 8
ORGANIZER:MVHS
END:VEVENT
END:VCALENDAR