BEGIN:VCALENDAR
VERSION:2.0
PRODID:-//Stadtgeschichte München//DE
CALSCALE:GREGORIAN
BEGIN:VEVENT
UID:26188@stadtgeschichte-muenchen.de
SUMMARY:Erbe und Erinnerung: Spurensuche in der Sammlung des Lenbachhauses
DESCRIPTION:&lt;p&gt;Welche jüdischen Künstler*innen sind in der Sammlung des Hauses vertreten? Welche Objekte wurden von jüdischen Kunsthändler*innen angekauft? Und welche Erfahrungen gibt es in dem Museum mit Kunstwerken, die in der NS-Zeit geraubt wurden? Das Lenbachhaus lädt zu einer Spurensuche ein. Bei einem Rundgang berichtet das Team Provenienzforschung über die fast hundertjährige Geschichte des Museums, über Leerstellen in der Sammlung und die Arbeitspraxis in Hinblick auf Restitution und Erinnerungsarbeit.&amp;nbsp;&lt;/p&gt;
DTSTART:20250426T100000
DTEND:20250426T113000
LOCATION:Städtische Galerie im Lenbachhaus und Kunstbau München Luisenstraße 33, Atrium vor Kassen
ORGANIZER:DMAO Denk mal am Ort
END:VEVENT
END:VCALENDAR